 BEGIN:VCALENDAR
VERSION:2.0
PRODID:-//Store Rurale - Agraria Riva del Garda - ECPv6.15.11//NONSGML v1.0//EN
CALSCALE:GREGORIAN
METHOD:PUBLISH
X-WR-CALNAME:Store Rurale - Agraria Riva del Garda
X-ORIGINAL-URL:https://store.agririva.it
X-WR-CALDESC:Eventi per Store Rurale - Agraria Riva del Garda
REFRESH-INTERVAL;VALUE=DURATION:PT1H
X-Robots-Tag:noindex
X-PUBLISHED-TTL:PT1H
BEGIN:VTIMEZONE
TZID:Europe/Rome
BEGIN:DAYLIGHT
TZOFFSETFROM:+0100
TZOFFSETTO:+0200
TZNAME:CEST
DTSTART:20250330T010000
END:DAYLIGHT
BEGIN:STANDARD
TZOFFSETFROM:+0200
TZOFFSETTO:+0100
TZNAME:CET
DTSTART:20251026T010000
END:STANDARD
BEGIN:DAYLIGHT
TZOFFSETFROM:+0100
TZOFFSETTO:+0200
TZNAME:CEST
DTSTART:20260329T010000
END:DAYLIGHT
BEGIN:STANDARD
TZOFFSETFROM:+0200
TZOFFSETTO:+0100
TZNAME:CET
DTSTART:20261025T010000
END:STANDARD
BEGIN:DAYLIGHT
TZOFFSETFROM:+0100
TZOFFSETTO:+0200
TZNAME:CEST
DTSTART:20270328T010000
END:DAYLIGHT
BEGIN:STANDARD
TZOFFSETFROM:+0200
TZOFFSETTO:+0100
TZNAME:CET
DTSTART:20271031T010000
END:STANDARD
END:VTIMEZONE
BEGIN:VEVENT
DTSTART;TZID=Europe/Rome:20260428T183000
DTEND;TZID=Europe/Rome:20260428T203000
DTSTAMP:20260421T133830
CREATED:20260401T055731Z
LAST-MODIFIED:20260416T132634Z
UID:53482-1777401000-1777408200@store.agririva.it
SUMMARY:"A ogni olio la sua oliva" - GALLERIA EXPERIENCE 2026
DESCRIPTION:L’edizione 2026 di Galleria Experience – la rassegna di eventi primaverili a tema enogastronomico firmata Agraria Riva del Garda – è tornata! \nSarà un viaggio tra i vini e gli oli extravergine di nostra produzione\, ma non solo: una scoperta anche delle eccellenze gastronomiche più sorprendenti del Trentino.\nQuest’anno il percorso si costruirà passo dopo passo: ogni evento sarà presentato singolarmente\, come parte di un’unica esperienza chiamata Galleria Experience. \nSapori\, racconti e territorio tornano protagonisti. \n  \n*** \n  \n“A OGNI OLIO LA SUA OLIVA” – 28 aprile 2026\, ore 18:30 \n– Alla scoperta delle più celebri cultivar di oliva italiane. – \nUn’esperienza olfattiva e gustativa unica tra le varietà di oliva italiane più celebri e alla scoperta delle loro caratteristiche distintive. Scopriremo assieme i nostri tecnici olivicoli l’unicità degli oli extra vergine che si ottengono e il loro legame con i territori d’origine. \n  \n📍 DOVE & QUANDO\nLa serata si svolgerà nella “Galleria del gusto“\, presso la sede di Agraria Riva del Garda – Via San Nazzaro\, 4 – RIVA DEL GARDA (TN) dalle ore 18:30 alle 20:30. \n  \n🎫 COSTI e ISCRIZIONI\nLa quota di partecipazione è di € 30 a persona (iva inclusa). Per chi gli iscritti  all’Agririva Club\, la quota di partecipazione è di € 25 a persona. \nIscrizione obbligatoria entro le ore 23:30 di lunedì 27 aprile e può essere effettuata solamente online scorrendo in fondo a questa pagina e cliccando sul pulsante “ACQUISTA BIGLIETTI”. \n  \nℹ️ INFORMAZIONI\n\nNUMERO MINIMO DI PARTECIPANTI: 15 persone. (qualora non fosse raggiunta la soglia minima dei partecipanti\, la serata sarà annullata e  verrà effettuato il rimborso biglietti venduti)\nNUMERO MASSIMO DI PARTECIPANTI: 30 persone.\nNel corso della serata potrebbe essere servito del cibo di accompagnamento. Si prega di comunicare in anticipo eventuali allergie\, intolleranze o preferenze alimentari specifiche.\nPer ulteriori informazioni scrivere un’e-mail all’indirizzo communication@agririva.it o chiamare il numero 0464 714975.\n\n  \nNon perdere l’occasione: prenota ora il tuo posto e vivi un’esperienza unica tra sapori autentici!
URL:https://store.agririva.it/event/a-ogni-olio-la-sua-oliva-galleria-experience-2026/
LOCATION:“Galleria del Gusto” – Agraria Riva del Garda\, Via San Nazzaro\, 4\, Riva del Garda (TN)\, Trentino Alto-Adige\, 38066\, Italy
ATTACH;FMTTYPE=image/png:https://store.agririva.it/wp-content/uploads/2026/03/GALLERIA-EXPERIENCE_newsbiglietto-1.png
ORGANIZER;CN="Agraria":MAILTO:communication@agririva.it
END:VEVENT
BEGIN:VEVENT
DTSTART;TZID=Europe/Rome:20260512T183000
DTEND;TZID=Europe/Rome:20260512T203000
DTSTAMP:20260421T133830
CREATED:20260409T123820Z
LAST-MODIFIED:20260416T132639Z
UID:53464-1778610600-1778617800@store.agririva.it
SUMMARY:"I profumi della dolcezza" - GALLERIA EXPERIENCE 2026
DESCRIPTION:L’edizione 2026 di Galleria Experience – la rassegna di eventi primaverili a tema enogastronomico firmata Agraria Riva del Garda – è tornata! \nSarà un viaggio tra i vini e gli oli extravergine di nostra produzione\, ma non solo: una scoperta anche delle eccellenze gastronomiche più sorprendenti del Trentino.\nQuest’anno il percorso si costruirà passo dopo passo: ogni evento sarà presentato singolarmente\, come parte di un’unica esperienza chiamata Galleria Experience. \nSapori\, racconti e territorio tornano protagonisti. \n  \n*** \n  \n“I PROFUMI DELLA DOLCEZZA” – 12 maggio 2026\, ore 18:30 \n– Alla scoperta del miele: dal fiore al vasetto.- \nUna dolce serata dedicata alla degustazione del miele. A condurre sarà Francesca Paternoster della celebre azienda Mieli Thun di Vigo di Ton. Scopriremo insieme come degustare correttamente il miele\, le peculiarità di ogni varietà e le caratteristiche che rendono unico ogni vasetto. Avremo anche l’opportunità di esplorare abbinamenti creativi e sorprendenti con olio extra vergine e vino: un’esperienza sensoriale completa tra profumi\, sapori e dolcezza autentica. \n  \nUna dolce serata dedicata alla degustazione del miele condotta da Francesca Paternoster dell’azienda Mieli Thun di Vigo di Ton. Scopriremo insieme come degustare correttamente il miele\, le peculiarità di ogni varietà e le caratteristiche che rendono unico ogni vasetto. Un’esperienza sensoriale completa tra profumi\, sapori e dolcezza autentica\, in abbinamento a olio e vino. \n  \n📍 DOVE & QUANDO\nLa serata si svolgerà nella “Galleria del gusto“\, presso la sede di Agraria Riva del Garda – Via San Nazzaro\, 4 – RIVA DEL GARDA (TN) dalle ore 18:30 alle 20:30. \n  \n🎫 COSTI e ISCRIZIONI\nLa quota di partecipazione è di € 30 a persona (iva inclusa). Per chi gli iscritti  all’Agririva Club\, la quota di partecipazione è di € 25 a persona. \nIscrizione obbligatoria entro le ore 23:30 di lunedì 11 maggio e può essere effettuata solamente online scorrendo in fondo a questa pagina e cliccando sul pulsante “ACQUISTA BIGLIETTI”. \n  \nℹ️ INFORMAZIONI\n\nNUMERO MINIMO DI PARTECIPANTI: 15 persone. (qualora non fosse raggiunta la soglia minima dei partecipanti\, la serata sarà annullata e  verrà effettuato il rimborso biglietti venduti)\nNUMERO MASSIMO DI PARTECIPANTI: 30 persone.\nNel corso della serata potrebbe essere servito del cibo di accompagnamento. Si prega di comunicare in anticipo eventuali allergie\, intolleranze o preferenze alimentari specifiche.\nPer ulteriori informazioni scrivere un’e-mail all’indirizzo communication@agririva.it o chiamare il numero 0464 714975.\n\n  \nNon perdere l’occasione: prenota ora il tuo posto e vivi un’esperienza unica tra sapori autentici!
URL:https://store.agririva.it/event/i-profumi-della-dolcezza-galleria-experience-2026/
LOCATION:“Galleria del Gusto” – Agraria Riva del Garda\, Via San Nazzaro\, 4\, Riva del Garda (TN)\, Trentino Alto-Adige\, 38066\, Italy
ATTACH;FMTTYPE=image/png:https://store.agririva.it/wp-content/uploads/2026/03/GALLERIA-EXPERIENCE_newsbiglietto-1-1.png
ORGANIZER;CN="Agraria Riva del Garda":MAILTO:communication@agririva.it
END:VEVENT
END:VCALENDAR